BEGIN:VCALENDAR
VERSION:2.0
PRODID:-//wp-events-plugin.com//7.2.3.1//EN
BEGIN:VEVENT
UID:3@metramitchell.com
DTSTART;VALUE=DATE:20221028
DTEND;VALUE=DATE:20221203
DTSTAMP:20221117T102031Z
URL:https://metramitchell.com/events/faces-of-south-africa/
SUMMARY:ART OF DARKNESS
DESCRIPTION:
LOCATION:Soulard Art Gallery\, 2028 S 12th St\, Saitn Louis\, MO\, 63104\, 
 United States
X-APPLE-STRUCTURED-LOCATION;VALUE=URI;X-ADDRESS=2028 S 12th St\, Saitn Loui
 s\, MO\, 63104\, United States;X-APPLE-RADIUS=100;X-TITLE=Soulard Art Gall
 ery:geo:0,0
END:VEVENT
END:VCALENDAR